BEGIN:VCALENDAR
PRODID:-//eluceo/ical//2.0/EN
VERSION:2.0
CALSCALE:GREGORIAN
BEGIN:VEVENT
UID:2bbb3851cb612ce4fd58256ba4b146d2
DTSTAMP:20260419T131831Z
SUMMARY:Réunion Statutaire N°2103
DESCRIPTION:Site internet: https://www.facebook.com/LeConcordiaSaintGhislai
 n?locale=fr_FR
URL:https://saint-ghislain.rotary2150.org/fr/agenda/show/76120
DTSTART;TZID=Europe/Zurich:20240905T193000
DTEND;TZID=Europe/Zurich:20240905T223000
LOCATION:Le Concordia\, Grand Place\, 46\, 7330 Saint-Ghislain
CATEGORIES:Rotary
END:VEVENT
BEGIN:VTIMEZONE
TZID:Europe/Zurich
BEGIN:DAYLIGHT
DTSTART:20240905T193000
TZNAME:CEST
TZOFFSETTO:+0200
TZOFFSETFROM:+0200
END:DAYLIGHT
END:VTIMEZONE
END:VCALENDAR
